{
 "currentVersion": 10.81,
 "serviceDescription": "IZVADAK/IZVADAK_1PPZ",
 "name": "IZVADAK/IZVADAK_1PPZ",
 "description": "",
 "extent": {
  "xmin": 293015.8783,
  "ymin": 4894746.408511409,
  "xmax": 403615.18140720495,
  "ymax": 5071235.198799999,
  "spatialReference": {
   "wkid": 3765,
   "latestWkid": 3765
  }
 },
 "initialExtent": {
  "xmin": 293015.8783,
  "ymin": 4894746.408511409,
  "xmax": 403615.18140720495,
  "ymax": 5071235.198799999,
  "spatialReference": {
   "wkid": 3765,
   "latestWkid": 3765
  }
 },
 "fullExtent": {
  "xmin": 293015.8783,
  "ymin": 4894746.408511409,
  "xmax": 403615.18140720495,
  "ymax": 5071235.198799999,
  "spatialReference": {
   "wkid": 3765,
   "latestWkid": 3765
  }
 },
 "pixelSizeX": 12.705261700999996,
 "pixelSizeY": 12.705261700999987,
 "bandCount": 3,
 "pixelType": "U8",
 "minPixelSize": 0,
 "maxPixelSize": 0,
 "copyrightText": "",
 "serviceDataType": "esriImageServiceDataTypeRGB",
 "minValues": [
  0,
  0,
  0
 ],
 "maxValues": [
  255,
  255,
  255
 ],
 "meanValues": [
  210.7883166738916,
  222.44293870141567,
  215.57722365598298
 ],
 "stdvValues": [
  48.628568340934294,
  41.263084938090735,
  53.28953851439582
 ],
 "objectIdField": "OBJECTID",
 "fields": [
  {
   "name": "OBJECTID",
   "type": "esriFieldTypeOID",
   "alias": "OBJECTID",
   "domain": null
  },
  {
   "name": "Name",
   "type": "esriFieldTypeString",
   "alias": "Name",
   "domain": null,
   "length": 200
  },
  {
   "name": "MinPS",
   "type": "esriFieldTypeDouble",
   "alias": "MinPS",
   "domain": null
  },
  {
   "name": "MaxPS",
   "type": "esriFieldTypeDouble",
   "alias": "MaxPS",
   "domain": null
  },
  {
   "name": "LowPS",
   "type": "esriFieldTypeDouble",
   "alias": "LowPS",
   "domain": null
  },
  {
   "name": "HighPS",
   "type": "esriFieldTypeDouble",
   "alias": "HighPS",
   "domain": null
  },
  {
   "name": "Category",
   "type": "esriFieldTypeInteger",
   "alias": "Category",
   "domain": {
    "type": "codedValue",
    "name": "MosaicCatalogItemCategoryDomain",
    "description": "Catalog item categories.",
    "codedValues": [
     {
      "name": "Unknown",
      "code": 0
     },
     {
      "name": "Primary",
      "code": 1
     },
     {
      "name": "Overview",
      "code": 2
     },
     {
      "name": "Unprocessed Overview",
      "code": 3
     },
     {
      "name": "Partial Overview",
      "code": 4
     },
     {
      "name": "Inactive",
      "code": 5
     },
     {
      "name": "Uploaded",
      "code": 253
     },
     {
      "name": "Incomplete",
      "code": 254
     },
     {
      "name": "Custom",
      "code": 255
     }
    ],
    "mergePolicy": "esriMPTDefaultValue",
    "splitPolicy": "esriSPTDefaultValue"
   }
  },
  {
   "name": "Tag",
   "type": "esriFieldTypeString",
   "alias": "Tag",
   "domain": null,
   "length": 100
  },
  {
   "name": "GroupName",
   "type": "esriFieldTypeString",
   "alias": "GroupName",
   "domain": null,
   "length": 100
  },
  {
   "name": "ProductName",
   "type": "esriFieldTypeString",
   "alias": "ProductName",
   "domain": null,
   "length": 100
  },
  {
   "name": "CenterX",
   "type": "esriFieldTypeDouble",
   "alias": "CenterX",
   "domain": null
  },
  {
   "name": "CenterY",
   "type": "esriFieldTypeDouble",
   "alias": "CenterY",
   "domain": null
  },
  {
   "name": "ZOrder",
   "type": "esriFieldTypeInteger",
   "alias": "ZOrder",
   "domain": null
  },
  {
   "name": "Shape",
   "type": "esriFieldTypeGeometry",
   "alias": "Shape",
   "domain": null
  },
  {
   "name": "KARTA_ID",
   "type": "esriFieldTypeInteger",
   "alias": "KARTA_ID",
   "domain": null
  },
  {
   "name": "KARTA_NAZIV",
   "type": "esriFieldTypeString",
   "alias": "KARTA_NAZIV",
   "domain": null,
   "length": 100
  },
  {
   "name": "PLAN_NAZIV",
   "type": "esriFieldTypeString",
   "alias": "PLAN_NAZIV",
   "domain": null,
   "length": 100
  },
  {
   "name": "OPCINA",
   "type": "esriFieldTypeString",
   "alias": "OPCINA",
   "domain": null,
   "length": 100
  },
  {
   "name": "GIS_SIFRA",
   "type": "esriFieldTypeString",
   "alias": "GIS_SIFRA",
   "domain": null,
   "length": 50
  },
  {
   "name": "SHARE_POINT_PLAN_ID",
   "type": "esriFieldTypeInteger",
   "alias": "SHARE_POINT_PLAN_ID",
   "domain": null
  },
  {
   "name": "Folder_raster",
   "type": "esriFieldTypeString",
   "alias": "Folder_raster",
   "domain": null,
   "length": 500
  },
  {
   "name": "RASTER_LEGENDA",
   "type": "esriFieldTypeString",
   "alias": "RASTER_LEGENDA",
   "domain": null,
   "length": 500
  },
  {
   "name": "MJERILO",
   "type": "esriFieldTypeInteger",
   "alias": "MJERILO",
   "domain": null
  },
  {
   "name": "KARTA_SIFRA",
   "type": "esriFieldTypeString",
   "alias": "KARTA_SIFRA",
   "domain": null,
   "length": 50
  },
  {
   "name": "WIDTH",
   "type": "esriFieldTypeDouble",
   "alias": "WIDTH",
   "domain": null
  },
  {
   "name": "HEIGHT",
   "type": "esriFieldTypeDouble",
   "alias": "HEIGHT",
   "domain": null
  },
  {
   "name": "MINX",
   "type": "esriFieldTypeDouble",
   "alias": "MINX",
   "domain": null
  },
  {
   "name": "MINY",
   "type": "esriFieldTypeDouble",
   "alias": "MINY",
   "domain": null
  },
  {
   "name": "MAXX",
   "type": "esriFieldTypeDouble",
   "alias": "MAXX",
   "domain": null
  },
  {
   "name": "MAXY",
   "type": "esriFieldTypeDouble",
   "alias": "MAXY",
   "domain": null
  },
  {
   "name": "Shape.STArea()",
   "type": "esriFieldTypeDouble",
   "alias": "Shape.STArea()",
   "domain": null
  },
  {
   "name": "Shape.STLength()",
   "type": "esriFieldTypeDouble",
   "alias": "Shape.STLength()",
   "domain": null
  }
 ],
 "capabilities": "Catalog,Image,Mensuration,Metadata",
 "defaultMosaicMethod": "LockRaster",
 "allowedMosaicMethods": "LockRaster,NorthWest,Center,ByAttribute,Nadir,Viewpoint,Seamline,None",
 "sortField": "",
 "sortValue": null,
 "sortAscending": true,
 "mosaicOperator": "First",
 "maxDownloadSizeLimit": 0,
 "defaultCompressionQuality": 75,
 "defaultResamplingMethod": "Bicubic",
 "maxImageHeight": 4100,
 "maxImageWidth": 15000,
 "maxRecordCount": 1000,
 "maxDownloadImageCount": 0,
 "maxMosaicImageCount": 20,
 "allowRasterFunction": true,
 "rasterFunctionInfos": [
  {
   "name": "None",
   "description": "A No-Op Function.",
   "help": ""
  }
 ],
 "rasterTypeInfos": [
  {
   "name": "Raster Dataset",
   "description": "Supports all ArcGIS Raster Datasets",
   "help": ""
  }
 ],
 "mensurationCapabilities": "Basic",
 "hasHistograms": true,
 "hasColormap": false,
 "hasRasterAttributeTable": false,
 "minScale": 0,
 "maxScale": 0,
 "exportTilesAllowed": false,
 "hasMultidimensions": false,
 "supportsStatistics": true,
 "supportsAdvancedQueries": true,
 "editFieldsInfo": null,
 "ownershipBasedAccessControlForRasters": null,
 "allowComputeTiePoints": false,
 "useStandardizedQueries": true,
 "advancedQueryCapabilities": {
  "useStandardizedQueries": true,
  "supportsStatistics": true,
  "supportsOrderBy": true,
  "supportsDistinct": true,
  "supportsPagination": true
 },
 "spatialReference": {
  "wkid": 3765,
  "latestWkid": 3765
 }
}
