{
 "currentVersion": 10.81,
 "serviceDescription": "UI/PGZ_MD_RASTER_2PPPPO",
 "name": "UI/PGZ_MD_RASTER_2PPPPO",
 "description": "",
 "extent": {
  "xmin": 312418.77130000014,
  "ymin": 4983568.899516972,
  "xmax": 1098083.478658046,
  "ymax": 5047188.5966,
  "spatialReference": {
   "wkid": 3765,
   "latestWkid": 3765
  }
 },
 "initialExtent": {
  "xmin": 312418.77130000014,
  "ymin": 4983568.899516972,
  "xmax": 1098083.478658046,
  "ymax": 5047188.5966,
  "spatialReference": {
   "wkid": 3765,
   "latestWkid": 3765
  }
 },
 "fullExtent": {
  "xmin": 312418.77130000014,
  "ymin": 4983568.899516972,
  "xmax": 1098083.478658046,
  "ymax": 5047188.5966,
  "spatialReference": {
   "wkid": 3765,
   "latestWkid": 3765
  }
 },
 "pixelSizeX": 0.257525834,
 "pixelSizeY": 0.2575258340000001,
 "bandCount": 3,
 "pixelType": "U16",
 "minPixelSize": 0,
 "maxPixelSize": 0,
 "copyrightText": "",
 "serviceDataType": "esriImageServiceDataTypeGeneric",
 "minValues": [
  0.5,
  0.5,
  0.5
 ],
 "maxValues": [
  255.5,
  255.5,
  255.5
 ],
 "meanValues": [
  181.64443971318082,
  188.8915917379384,
  176.06869017426447
 ],
 "stdvValues": [
  54.425664730646396,
  52.243093518975236,
  60.04013954588331
 ],
 "objectIdField": "OBJECTID",
 "fields": [
  {
   "name": "OBJECTID",
   "type": "esriFieldTypeOID",
   "alias": "OBJECTID",
   "domain": null
  },
  {
   "name": "Name",
   "type": "esriFieldTypeString",
   "alias": "Name",
   "domain": null,
   "length": 200
  },
  {
   "name": "MinPS",
   "type": "esriFieldTypeDouble",
   "alias": "MinPS",
   "domain": null
  },
  {
   "name": "MaxPS",
   "type": "esriFieldTypeDouble",
   "alias": "MaxPS",
   "domain": null
  },
  {
   "name": "LowPS",
   "type": "esriFieldTypeDouble",
   "alias": "LowPS",
   "domain": null
  },
  {
   "name": "HighPS",
   "type": "esriFieldTypeDouble",
   "alias": "HighPS",
   "domain": null
  },
  {
   "name": "Category",
   "type": "esriFieldTypeInteger",
   "alias": "Category",
   "domain": {
    "type": "codedValue",
    "name": "MosaicCatalogItemCategoryDomain",
    "description": "Catalog item categories.",
    "codedValues": [
     {
      "name": "Unknown",
      "code": 0
     },
     {
      "name": "Primary",
      "code": 1
     },
     {
      "name": "Overview",
      "code": 2
     },
     {
      "name": "Unprocessed Overview",
      "code": 3
     },
     {
      "name": "Partial Overview",
      "code": 4
     },
     {
      "name": "Inactive",
      "code": 5
     },
     {
      "name": "Uploaded",
      "code": 253
     },
     {
      "name": "Incomplete",
      "code": 254
     },
     {
      "name": "Custom",
      "code": 255
     }
    ],
    "mergePolicy": "esriMPTDefaultValue",
    "splitPolicy": "esriSPTDefaultValue"
   }
  },
  {
   "name": "Tag",
   "type": "esriFieldTypeString",
   "alias": "Tag",
   "domain": null,
   "length": 100
  },
  {
   "name": "GroupName",
   "type": "esriFieldTypeString",
   "alias": "GroupName",
   "domain": null,
   "length": 100
  },
  {
   "name": "ProductName",
   "type": "esriFieldTypeString",
   "alias": "ProductName",
   "domain": null,
   "length": 100
  },
  {
   "name": "CenterX",
   "type": "esriFieldTypeDouble",
   "alias": "CenterX",
   "domain": null
  },
  {
   "name": "CenterY",
   "type": "esriFieldTypeDouble",
   "alias": "CenterY",
   "domain": null
  },
  {
   "name": "ZOrder",
   "type": "esriFieldTypeInteger",
   "alias": "ZOrder",
   "domain": null
  },
  {
   "name": "Shape",
   "type": "esriFieldTypeGeometry",
   "alias": "Shape",
   "domain": null
  },
  {
   "name": "KARTA_ID",
   "type": "esriFieldTypeInteger",
   "alias": "KARTA_ID",
   "domain": null
  },
  {
   "name": "KARTA_NAZIV",
   "type": "esriFieldTypeString",
   "alias": "KARTA_NAZIV",
   "domain": null,
   "length": 100
  },
  {
   "name": "PLAN_NAZIV",
   "type": "esriFieldTypeString",
   "alias": "PLAN_NAZIV",
   "domain": null,
   "length": 100
  },
  {
   "name": "OPCINA",
   "type": "esriFieldTypeString",
   "alias": "OPCINA",
   "domain": null,
   "length": 100
  },
  {
   "name": "GIS_SIFRA",
   "type": "esriFieldTypeString",
   "alias": "GIS_SIFRA",
   "domain": null,
   "length": 50
  },
  {
   "name": "SHARE_POINT_PLAN_ID",
   "type": "esriFieldTypeInteger",
   "alias": "SHARE_POINT_PLAN_ID",
   "domain": null
  },
  {
   "name": "Folder_raster",
   "type": "esriFieldTypeString",
   "alias": "Folder_raster",
   "domain": null,
   "length": 500
  },
  {
   "name": "RASTER_LEGENDA",
   "type": "esriFieldTypeString",
   "alias": "RASTER_LEGENDA",
   "domain": null,
   "length": 500
  },
  {
   "name": "MJERILO",
   "type": "esriFieldTypeInteger",
   "alias": "MJERILO",
   "domain": null
  },
  {
   "name": "KARTA_SIFRA",
   "type": "esriFieldTypeString",
   "alias": "KARTA_SIFRA",
   "domain": null,
   "length": 50
  },
  {
   "name": "WIDTH",
   "type": "esriFieldTypeDouble",
   "alias": "WIDTH",
   "domain": null
  },
  {
   "name": "HEIGHT",
   "type": "esriFieldTypeDouble",
   "alias": "HEIGHT",
   "domain": null
  },
  {
   "name": "MINX",
   "type": "esriFieldTypeDouble",
   "alias": "MINX",
   "domain": null
  },
  {
   "name": "MINY",
   "type": "esriFieldTypeDouble",
   "alias": "MINY",
   "domain": null
  },
  {
   "name": "MAXX",
   "type": "esriFieldTypeDouble",
   "alias": "MAXX",
   "domain": null
  },
  {
   "name": "MAXY",
   "type": "esriFieldTypeDouble",
   "alias": "MAXX",
   "domain": null
  },
  {
   "name": "Shape.STArea()",
   "type": "esriFieldTypeDouble",
   "alias": "Shape.STArea()",
   "domain": null
  },
  {
   "name": "Shape.STLength()",
   "type": "esriFieldTypeDouble",
   "alias": "Shape.STLength()",
   "domain": null
  }
 ],
 "capabilities": "Catalog,Mensuration,Image,Metadata",
 "defaultMosaicMethod": "Viewpoint",
 "allowedMosaicMethods": "Viewpoint,NorthWest,Center,LockRaster,ByAttribute,Nadir,Seamline,None",
 "sortField": "",
 "sortValue": null,
 "sortAscending": true,
 "mosaicOperator": "First",
 "maxDownloadSizeLimit": 2048,
 "defaultCompressionQuality": 75,
 "defaultResamplingMethod": "Bicubic",
 "maxImageHeight": 4100,
 "maxImageWidth": 15000,
 "maxRecordCount": 1000,
 "maxDownloadImageCount": 20,
 "maxMosaicImageCount": 20,
 "allowRasterFunction": true,
 "rasterFunctionInfos": [
  {
   "name": "None",
   "description": "A No-Op Function.",
   "help": ""
  }
 ],
 "rasterTypeInfos": [
  {
   "name": "Raster Dataset",
   "description": "Supports all ArcGIS Raster Datasets",
   "help": ""
  }
 ],
 "mensurationCapabilities": "Basic",
 "hasHistograms": true,
 "hasColormap": false,
 "hasRasterAttributeTable": false,
 "minScale": 0,
 "maxScale": 0,
 "exportTilesAllowed": false,
 "hasMultidimensions": false,
 "supportsStatistics": true,
 "supportsAdvancedQueries": true,
 "editFieldsInfo": null,
 "ownershipBasedAccessControlForRasters": null,
 "allowComputeTiePoints": false,
 "useStandardizedQueries": true,
 "advancedQueryCapabilities": {
  "useStandardizedQueries": true,
  "supportsStatistics": true,
  "supportsOrderBy": true,
  "supportsDistinct": true,
  "supportsPagination": true
 },
 "spatialReference": {
  "wkid": 3765,
  "latestWkid": 3765
 }
}
