View In:
ArcGIS JavaScript
ArcGIS Online Map Viewer
ArcGIS Earth
ArcMap
View Footprint In:
ArcGIS Online Map Viewer
Service Description: UI/PGZ_MD_RASTER_6DPU
Name: UI/PGZ_MD_RASTER_6DPU
Description:
Single Fused Map Cache: false
Extent:
XMin: 318796.97580000013
YMin: 4958663.316819998
XMax: 392935.09922101314
YMax: 5040421.1007
Spatial Reference: 3765
(3765)
Initial Extent:
XMin: 318796.97580000013
YMin: 4958663.316819998
XMax: 392935.09922101314
YMax: 5040421.1007
Spatial Reference: 3765
(3765)
Full Extent:
XMin: 318796.97580000013
YMin: 4958663.316819998
XMax: 392935.09922101314
YMax: 5040421.1007
Spatial Reference: 3765
(3765)
Pixel Size X: 0.015450467
Pixel Size Y: 0.015450466999999975
Band Count: 3
Pixel Type: U16
RasterFunction Infos: {"rasterFunctionInfos": [{
"name": "None",
"description": "A No-Op Function.",
"help": ""
}]}
Mensuration Capabilities: Basic
Has Histograms: true
Has Colormap: false
Has Multi Dimensions : false
Rendering Rule:
Min Scale: 0
Max Scale: 0
Copyright Text:
Service Data Type: esriImageServiceDataTypeGeneric
Min Values: 0, 0, 0
Max Values: 255.0009765625, 255.0009765625, 255.0009765625
Mean Values: 220.54852949283628, 219.42430936451765, 221.15855445166437
Standard Deviation Values: 38.43409167349404, 38.621127330578986, 39.14231714256291
Object ID Field: OBJECTID
Fields:
-
OBJECTID
(
type: esriFieldTypeOID, alias: OBJECTID
)
-
Name
(
type: esriFieldTypeString, alias: Name, length: 200
)
-
MinPS
(
type: esriFieldTypeDouble, alias: MinPS
)
-
MaxPS
(
type: esriFieldTypeDouble, alias: MaxPS
)
-
LowPS
(
type: esriFieldTypeDouble, alias: LowPS
)
-
HighPS
(
type: esriFieldTypeDouble, alias: HighPS
)
-
Category
(
type: esriFieldTypeInteger, alias: Category
, Coded Values:
[0: Unknown]
, [1: Primary]
, [2: Overview]
, ...6 more...
)
-
Tag
(
type: esriFieldTypeString, alias: Tag, length: 100
)
-
GroupName
(
type: esriFieldTypeString, alias: GroupName, length: 100
)
-
ProductName
(
type: esriFieldTypeString, alias: ProductName, length: 100
)
-
CenterX
(
type: esriFieldTypeDouble, alias: CenterX
)
-
CenterY
(
type: esriFieldTypeDouble, alias: CenterY
)
-
ZOrder
(
type: esriFieldTypeInteger, alias: ZOrder
)
-
Shape
(
type: esriFieldTypeGeometry, alias: Shape
)
-
KARTA_NAZIV
(
type: esriFieldTypeString, alias: KARTA_NAZIV, length: 100
)
-
PLAN_NAZIV
(
type: esriFieldTypeString, alias: PLAN_NAZIV, length: 100
)
-
OPCINA
(
type: esriFieldTypeString, alias: OPCINA, length: 100
)
-
GIS_SIFRA
(
type: esriFieldTypeString, alias: GIS_SIFRA, length: 50
)
-
SHARE_POINT_PLAN_ID
(
type: esriFieldTypeInteger, alias: SHARE_POINT_PLAN_ID
)
-
MJERILO
(
type: esriFieldTypeInteger, alias: MJERILO
)
-
KARTA_SIFRA
(
type: esriFieldTypeString, alias: KARTA_SIFRA, length: 50
)
-
STANJE_1212
(
type: esriFieldTypeSmallInteger, alias: STANJE_1212
)
-
WIDTH
(
type: esriFieldTypeDouble, alias: WIDTH
)
-
HEIGHT
(
type: esriFieldTypeDouble, alias: HEIGHT
)
-
MINX
(
type: esriFieldTypeDouble, alias: MINX
)
-
MINY
(
type: esriFieldTypeDouble, alias: MINY
)
-
MAXX
(
type: esriFieldTypeDouble, alias: MAXX
)
-
MAXY
(
type: esriFieldTypeDouble, alias: MAXY
)
-
Shape.STArea()
(
type: esriFieldTypeDouble, alias: Shape.STArea()
)
-
Shape.STLength()
(
type: esriFieldTypeDouble, alias: Shape.STLength()
)
Default Mosaic Method: Northwest
Allowed Mosaic Methods: NorthWest,Center,LockRaster,ByAttribute,Nadir,Viewpoint,Seamline,None
SortField:
SortValue: null
Mosaic Operator: First
Default Compression Quality: 75
Default Resampling Method: Bicubic
Max Record Count: 1000
Max Image Height: 4100
Max Image Width: 15000
Max Download Image Count: 20
Max Mosaic Image Count: 20
Allow Raster Function: true
Allow Copy: null
Allow Analysis: null
Allow Compute TiePoints: false
Supports Statistics: true
Supports Advanced Queries: true
Use StandardizedQueries: true
Raster Type Infos:
Name: Raster Dataset
Description: Supports all ArcGIS Raster Datasets
Help:
Has Raster Attribute Table: false
Edit Fields Info: null
Ownership Based AccessControl For Rasters: null
Child Resources:
Info
Histograms
Key Properties
Legend
Raster Function Infos
Supported Operations:
Export Image
Query
Identify
Measure
Compute Histograms
Compute Statistics Histograms
Get Samples
Compute Class Statistics
Query Boundary
Compute Pixel Location
Validate
Project